BEGIN:VCALENDAR
PRODID:-//eluceo/ical//2.0/EN
VERSION:2.0
CALSCALE:GREGORIAN
BEGIN:VEVENT
UID:31a0c328537817d6b676100d6020e5c7
DTSTAMP:20260419T133547Z
SUMMARY:Tradicional Baile de Páscoa - Vila Caraguatá
DESCRIPTION:Prepare-se para a noite mais animada da região: o Tradicional 
 Baile de Páscoa chega à Vila Caraguatá com três atrações imperdívei
 s para celebrar a madrugada com muita música e energia. Venha dançar\, r
 eencontrar amigos e viver uma festa pensada para quem ama shows ao vivo e 
 pista movimentada. Garanta seu ingresso antecipado e faça parte dessa cel
 ebração inesquecível.\n\n- Data: 04-04-2026\n- Horário: 23:30\n- Local
 : Vila Caraguatá - Salvador das Missões\, RS\n- Atrações: Brilha Som\;
  Banda Mercosul\; Kaíke Rodrigues\n- Início: 23:30\n- Reservas: Giu Sant
 os - 9.9713-2336\n- Ingressos: Antecipados disponíveis em breve nos ponto
 s de toda região\n- Realização: Associação Santa Cecília\n- Organiza
 ção: Vibe Produções
DTSTART;TZID=America/Recife:20260404T103547
DTEND;TZID=America/Recife:20260404T103547
END:VEVENT
END:VCALENDAR
